BEGIN:VCALENDAR
VERSION:2.0
BEGIN:VTIMEZONE
TZID:Europe/London
BEGIN:STANDARD
DTSTART:19961027T020000
RRULE:FREQ=YEARLY;BYMONTH=10;BYDAY=-1SU
TZOFFSETFROM:+0100
TZOFFSETTO:+0000
TZNAME:GMT
END:STANDARD
BEGIN:DAYLIGHT
DTSTART:19970330T010000
RRULE:FREQ=YEARLY;BYMONTH=3;BYDAY=-1SU
TZOFFSETFROM:+0000
TZOFFSETTO:+0100
TZNAME:BST
END:DAYLIGHT
END:VTIMEZONE
BEGIN:VEVENT
UID:69e77275a37b9
DTSTAMP;TZID=Europe/London:20260421T124957
DTSTART;TZID=Europe/London:20260127T180000
DTEND;TZID=Europe/London:20260127T210000
SUMMARY:Funding the future: Founders in Tech
DESCRIPTION:Michelmores event
LOCATION:HaysMac, 10 Queen St Place, London  EC4R 1AG
END:VEVENT
END:VCALENDAR
